BEGIN:VCALENDAR
VERSION:2.0
PRODID:-//Dopravní fotoakce BRNO - ECPv6.2.8.1//NONSGML v1.0//EN
CALSCALE:GREGORIAN
METHOD:PUBLISH
X-WR-CALNAME:Dopravní fotoakce BRNO
X-ORIGINAL-URL:https://www.dopravnifotoakce.cz
X-WR-CALDESC:Akce na Dopravní fotoakce BRNO
REFRESH-INTERVAL;VALUE=DURATION:PT1H
X-Robots-Tag:noindex
X-PUBLISHED-TTL:PT1H
BEGIN:VTIMEZONE
TZID:UTC
BEGIN:STANDARD
TZOFFSETFROM:+0000
TZOFFSETTO:+0000
TZNAME:UTC
DTSTART:20240101T000000
END:STANDARD
END:VTIMEZONE
BEGIN:VEVENT
DTSTART;TZID=UTC:20241103T110000
DTEND;TZID=UTC:20241103T140000
DTSTAMP:20260422T074914
CREATED:20240927T144407Z
LAST-MODIFIED:20241024T162754Z
UID:3569-1730631600-1730642400@www.dopravnifotoakce.cz
SUMMARY:Mimo trolejbusovou síť s 32Tr!
DESCRIPTION:NÁSTUP: Hlavní – 10.50\nVÝSTUP: Vozovna Komín – 14.00\nCENA: 370 Kč\nREGISTRACE: ODKAZ\nTRASA: \n  \nVážení nadšenci! Jak je to již u nás zvykem\, naše akce nejsou nudné. A tak jsme se rozhodli pro vás udělat jednu opravdu speciální akci. Vypravíme trolejbus typu 26Tr\, který je znám tím\, že byl jako první parciální. My jeho potenciál tak využijeme naplno a projedeme si cesty\, kde jste s trolejbusem ještě určitě nebyli! \n… třeba budeme mít na jízdě i duchy! \n22.10.: Z dotačních důvodů nelze vypravit trolejbus 26Tr\, bude vypraven náhradní trolejbus typu 32Tr! \nAKTUÁLNÍ INFORMACE K AKCI: \n● Emaily odeslány: ANO (nové rezervace vyřizujeme do 2 dnů)\n \n● Stav platby si můžete ověřit aktuálně na: https://bit.ly/dfb-stavplatby
URL:https://www.dopravnifotoakce.cz/akce/mimo-trolejbusovou-sit-s-32tr/
LOCATION:Vozovna Komín
ORGANIZER;CN="Ond%C5%99ej Budik":MAILTO:ondrejbudik2@gmail.com
END:VEVENT
END:VCALENDAR