BEGIN:VCALENDAR
VERSION:2.0
PRODID:-//Dopravní fotoakce BRNO - ECPv6.2.8.1//NONSGML v1.0//EN
CALSCALE:GREGORIAN
METHOD:PUBLISH
X-WR-CALNAME:Dopravní fotoakce BRNO
X-ORIGINAL-URL:https://www.dopravnifotoakce.cz
X-WR-CALDESC:Akce na Dopravní fotoakce BRNO
REFRESH-INTERVAL;VALUE=DURATION:PT1H
X-Robots-Tag:noindex
X-PUBLISHED-TTL:PT1H
BEGIN:VTIMEZONE
TZID:Europe/Paris
BEGIN:DAYLIGHT
TZOFFSETFROM:+0100
TZOFFSETTO:+0200
TZNAME:CEST
DTSTART:20250330T010000
END:DAYLIGHT
BEGIN:STANDARD
TZOFFSETFROM:+0200
TZOFFSETTO:+0100
TZNAME:CET
DTSTART:20251026T010000
END:STANDARD
END:VTIMEZONE
BEGIN:VEVENT
DTSTART;TZID=Europe/Paris:20250413T100000
DTEND;TZID=Europe/Paris:20250413T140000
DTSTAMP:20260421T230409
CREATED:20250314T132524Z
LAST-MODIFIED:20250330T180451Z
UID:3648-1744538400-1744552800@www.dopravnifotoakce.cz
SUMMARY:Fotojízda s T3G 1651
DESCRIPTION:NÁSTUP: Výstaviště\, hlavní vstup – prostřední kolej – 10.50\nVÝSTUP: smyčka ARENA BRNO – 14.00\nCENA: 350 Kč\nREGISTRACE: ODKAZ \nSoupravy T3 brázdí ulicemi Brna již nějakou dobu\, nebude však dlouho trvat jejich vyřazení z provozu. Přijďte si udělat pár hezkých fotosnímků s poslední “pedálovou” T3\, která nese ikonický polep 155 let MHD.
URL:https://www.dopravnifotoakce.cz/akce/fotojizda-s-bilou-t3/
LOCATION:Brno
END:VEVENT
END:VCALENDAR