BEGIN:VCALENDAR
VERSION:2.0
PRODID:-//Dopravní fotoakce BRNO - ECPv6.2.8.1//NONSGML v1.0//EN
CALSCALE:GREGORIAN
METHOD:PUBLISH
X-ORIGINAL-URL:https://www.dopravnifotoakce.cz
X-WR-CALDESC:Akce na Dopravní fotoakce BRNO
REFRESH-INTERVAL;VALUE=DURATION:PT1H
X-Robots-Tag:noindex
X-PUBLISHED-TTL:PT1H
BEGIN:VTIMEZONE
TZID:UTC
BEGIN:STANDARD
TZOFFSETFROM:+0000
TZOFFSETTO:+0000
TZNAME:UTC
DTSTART:20250101T000000
END:STANDARD
END:VTIMEZONE
BEGIN:VEVENT
DTSTART;TZID=UTC:20250830T085000
DTEND;TZID=UTC:20250831T010000
DTSTAMP:20260421T162217
CREATED:20250620T142426Z
LAST-MODIFIED:20250818T173101Z
UID:3693-1756543800-1756602000@www.dopravnifotoakce.cz
SUMMARY:Fotojízda s T3PX
DESCRIPTION:Kvůli mnoha výlukám\, které jsou v poslední době pořádány bylo rozhodnuto o vytvoření tzv. PX (prdelí ksobě) souprav. Rozhodli jsme se tedy uspořádat fotojízdu právě s jednou takovou soupravou a pojedeme i po místech\, kam běžně nejezdí. Tak přijďte\, bude to stát za to! \nAkce je rozdělena na dvě části: \n1) DENNÍ ČÁST:\nNÁSTUP: Vozovna Medlánky – 8.50\nVÝSTUP: Výstaviště – hlavní vstup – 13.00\nCENA: 370 Kč \n2) NOČNÍ ČÁST:\nNÁSTUP: ARENA BRNO\, smyčka – 21.45\nVÝSTUP: Vozovna Medlánky – cca 1.00\nCENA: 200 Kč (v případě účasti na denní části pouze 100kč) \nREGISTRACE: ODKAZ \n \n 
URL:https://www.dopravnifotoakce.cz/akce/fotojizda-s-t3px/
END:VEVENT
END:VCALENDAR