BEGIN:VCALENDAR
VERSION:2.0
PRODID:-//Dopravní fotoakce BRNO - ECPv6.2.8.1//NONSGML v1.0//EN
CALSCALE:GREGORIAN
METHOD:PUBLISH
X-ORIGINAL-URL:https://www.dopravnifotoakce.cz
X-WR-CALDESC:Akce na Dopravní fotoakce BRNO
REFRESH-INTERVAL;VALUE=DURATION:PT1H
X-Robots-Tag:noindex
X-PUBLISHED-TTL:PT1H
BEGIN:VTIMEZONE
TZID:UTC
BEGIN:STANDARD
TZOFFSETFROM:+0000
TZOFFSETTO:+0000
TZNAME:UTC
DTSTART:20240101T000000
END:STANDARD
END:VTIMEZONE
BEGIN:VEVENT
DTSTART;TZID=UTC:20241214T165000
DTEND;TZID=UTC:20241214T190000
DTSTAMP:20260422T042905
CREATED:20240703T193151Z
LAST-MODIFIED:20241121T141702Z
UID:3533-1734195000-1734202800@www.dopravnifotoakce.cz
SUMMARY:Vánoční autobus 2
DESCRIPTION:NÁSTUP: Mendlovo náměstí – 16.50\nVÝSTUP: Mendlovo náměstí – 19.00\nCENA: 350 Kč\nREGISTRACE: ODKAZ\nTRASA: Mendlovo náměstí \nMáme zde další Vánoční autobus! Tentokrát v podobě autobusu Irisbus Citelis 12M\, který původně jezdil v Břeclavi u dopravce BORS BUS. Můžete se těšit na spoustu zajímavých míst\, ať už ve městě\, nebo na vesnici!
URL:https://www.dopravnifotoakce.cz/akce/vanocni-autobus-2/
ORGANIZER;CN="Ond%C5%99ej Budik":MAILTO:ondrejbudik2@gmail.com
END:VEVENT
END:VCALENDAR