BEGIN:VCALENDAR
VERSION:2.0
PRODID:-//Dopravní fotoakce BRNO - ECPv6.2.8.1//NONSGML v1.0//EN
CALSCALE:GREGORIAN
METHOD:PUBLISH
X-ORIGINAL-URL:https://www.dopravnifotoakce.cz
X-WR-CALDESC:Akce na Dopravní fotoakce BRNO
REFRESH-INTERVAL;VALUE=DURATION:PT1H
X-Robots-Tag:noindex
X-PUBLISHED-TTL:PT1H
BEGIN:VTIMEZONE
TZID:Europe/Paris
BEGIN:DAYLIGHT
TZOFFSETFROM:+0100
TZOFFSETTO:+0200
TZNAME:CEST
DTSTART:20250330T010000
END:DAYLIGHT
BEGIN:STANDARD
TZOFFSETFROM:+0200
TZOFFSETTO:+0100
TZNAME:CET
DTSTART:20251026T010000
END:STANDARD
END:VTIMEZONE
BEGIN:VEVENT
DTSTART;TZID=Europe/Paris:20251122T110000
DTEND;TZID=Europe/Paris:20251122T130000
DTSTAMP:20260421T093819
CREATED:20251107T202333Z
LAST-MODIFIED:20251107T202556Z
UID:3783-1763809200-1763816400@www.dopravnifotoakce.cz
SUMMARY:Fotojízda s KT8 ev. č. 1704
DESCRIPTION:Pomalu ale jistě v Brně nastává konec zajímavých a atypických vozů v řadách elektrické trakce. Jedním z nich je i bílá KT8D5 ev. č. 1704.\nPřijďte se rozloučit s tímto legendárním vozem prostřednictvím minifotojízdy! \nNÁSTUP: Vozovna Medlánky – 11.00\nVÝSTUP: ??? – cca 13.00\nCENA: 250 Kč\nČas a místo odjezdu se může změnit! Sledujte aktuální informace na sociálních sítích. \nREGISTRACE: ODKAZ
URL:https://www.dopravnifotoakce.cz/akce/3783/
END:VEVENT
END:VCALENDAR