BEGIN:VCALENDAR
VERSION:2.0
PRODID:-//Dopravní fotoakce BRNO - ECPv6.2.8.1//NONSGML v1.0//EN
CALSCALE:GREGORIAN
METHOD:PUBLISH
X-WR-CALNAME:Dopravní fotoakce BRNO
X-ORIGINAL-URL:https://www.dopravnifotoakce.cz
X-WR-CALDESC:Akce na Dopravní fotoakce BRNO
REFRESH-INTERVAL;VALUE=DURATION:PT1H
X-Robots-Tag:noindex
X-PUBLISHED-TTL:PT1H
BEGIN:VTIMEZONE
TZID:Europe/Helsinki
BEGIN:DAYLIGHT
TZOFFSETFROM:+0200
TZOFFSETTO:+0300
TZNAME:EEST
DTSTART:20220327T010000
END:DAYLIGHT
BEGIN:STANDARD
TZOFFSETFROM:+0300
TZOFFSETTO:+0200
TZNAME:EET
DTSTART:20221030T010000
END:STANDARD
END:VTIMEZONE
BEGIN:VEVENT
DTSTART;TZID=Europe/Helsinki:20221217T170000
DTEND;TZID=Europe/Helsinki:20221217T200000
DTSTAMP:20260423T011636
CREATED:20221025T101130Z
LAST-MODIFIED:20221025T101343Z
UID:710-1671296400-1671307200@www.dopravnifotoakce.cz
SUMMARY:Vánoční Šalina
DESCRIPTION:​Vážení přátelé a kamarádi\, \nnež se nadějeme tak zde máme opět vánoce. Ach ty krásné vánoce\, ta nálada\, ten klid! \nA přesně tyto pocity bychom chtěli přenést do jedné naší akce s názvem Vánoční Šalina. Jedná se o projekt\, který jste mohli zaznamenat již minulý rok a my jsme se rozhodli pokračovat. \nTento rok pojedeme s vánočně nazdobenou šalinou typu K2. (Pravděpodobně ev.č. 1054) \n \n Souhrné informace \nTermín: 17.12.2022 \nCena: 300kč \nSraz: 17:00 u zastávky Výstaviště\, hl. vstup (prostřední kolej)\n \nPravděpodobný návrat zpět na Výstaviště okolo 20h večerní.\n\n​​\n\nYouTube trailer: \nhttps://youtu.be/BWFQBeD-OJw\n \nNa akci vás čeká spoustu zajímavých věcí\, které pro vás už teď chystáme. Pojedeme tam\, kde v normálním provozu K2 nepotkáte a užijeme si tak krásný předvánoční večer. \nSoučástí akce bude i ohňostroj s proslovem týmu DFB. \n \nNa akci se můžete přihlásit již teď přes registrační systém.\nInformační emaily budeme odesílat začátkem listopadu. \n \nTěšíme se na vás!!!
URL:https://www.dopravnifotoakce.cz/akce/vanocni-salina/
LOCATION:Vozovna Pisárky
ORGANIZER;CN="Tade%C3%A1%C5%A1 Kar%C3%A1sek":MAILTO:karasektadeas@gmail.com
END:VEVENT
END:VCALENDAR